BEGIN:VCALENDAR
VERSION:2.0
PRODID:-//The Borough of Wilson - ECPv6.15.20//NONSGML v1.0//EN
CALSCALE:GREGORIAN
METHOD:PUBLISH
X-WR-CALNAME:The Borough of Wilson
X-ORIGINAL-URL:https://www.wilsonborough.org
X-WR-CALDESC:Events for The Borough of Wilson
REFRESH-INTERVAL;VALUE=DURATION:PT1H
X-Robots-Tag:noindex
X-PUBLISHED-TTL:PT1H
BEGIN:VTIMEZONE
TZID:America/New_York
BEGIN:DAYLIGHT
TZOFFSETFROM:-0500
TZOFFSETTO:-0400
TZNAME:EDT
DTSTART:20190310T070000
END:DAYLIGHT
BEGIN:STANDARD
TZOFFSETFROM:-0400
TZOFFSETTO:-0500
TZNAME:EST
DTSTART:20191103T060000
END:STANDARD
BEGIN:DAYLIGHT
TZOFFSETFROM:-0500
TZOFFSETTO:-0400
TZNAME:EDT
DTSTART:20200308T070000
END:DAYLIGHT
BEGIN:STANDARD
TZOFFSETFROM:-0400
TZOFFSETTO:-0500
TZNAME:EST
DTSTART:20201101T060000
END:STANDARD
BEGIN:DAYLIGHT
TZOFFSETFROM:-0500
TZOFFSETTO:-0400
TZNAME:EDT
DTSTART:20210314T070000
END:DAYLIGHT
BEGIN:STANDARD
TZOFFSETFROM:-0400
TZOFFSETTO:-0500
TZNAME:EST
DTSTART:20211107T060000
END:STANDARD
END:VTIMEZONE
BEGIN:VEVENT
DTSTART;VALUE=DATE:20200713
DTEND;VALUE=DATE:20200714
DTSTAMP:20260422T035219
CREATED:20200109T163626Z
LAST-MODIFIED:20200109T163626Z
UID:2290-1594598400-1594684799@www.wilsonborough.org
SUMMARY:Council Meeting 7pm
DESCRIPTION:
URL:https://www.wilsonborough.org/event/council-meeting-7pm-13/
CATEGORIES:Main
END:VEVENT
BEGIN:VEVENT
DTSTART;VALUE=DATE:20200712
DTEND;VALUE=DATE:20200721
DTSTAMP:20260422T035219
CREATED:20191105T161128Z
LAST-MODIFIED:20191105T161128Z
UID:2077-1594512000-1595289599@www.wilsonborough.org
SUMMARY:Unavailable
DESCRIPTION:
URL:https://www.wilsonborough.org/event/unavailable-153/
CATEGORIES:Meuser Park Pavilion - Large,Meuser Park Pavilion - Small,Strausser Community Center
END:VEVENT
BEGIN:VEVENT
DTSTART;VALUE=DATE:20200711
DTEND;VALUE=DATE:20200712
DTSTAMP:20260422T035219
CREATED:20200117T151831Z
LAST-MODIFIED:20200117T151831Z
UID:2378-1594425600-1594511999@www.wilsonborough.org
SUMMARY:Unavailable
DESCRIPTION:
URL:https://www.wilsonborough.org/event/unavailable-181/
CATEGORIES:Strausser Community Center
END:VEVENT
BEGIN:VEVENT
DTSTART;VALUE=DATE:20200711
DTEND;VALUE=DATE:20200712
DTSTAMP:20260422T035219
CREATED:20191105T161052Z
LAST-MODIFIED:20191105T161052Z
UID:2075-1594425600-1594511999@www.wilsonborough.org
SUMMARY:Unavailable
DESCRIPTION:
URL:https://www.wilsonborough.org/event/unavailable-152/
CATEGORIES:Strausser Community Center
END:VEVENT
BEGIN:VEVENT
DTSTART;VALUE=DATE:20200704
DTEND;VALUE=DATE:20200705
DTSTAMP:20260422T035219
CREATED:20191105T161310Z
LAST-MODIFIED:20191105T161310Z
UID:2083-1593820800-1593907199@www.wilsonborough.org
SUMMARY:Unavailable
DESCRIPTION:
URL:https://www.wilsonborough.org/event/unavailable-156/
CATEGORIES:Meuser Park Pavilion - Large,Meuser Park Pavilion - Small,Strausser Community Center
END:VEVENT
BEGIN:VEVENT
DTSTART;VALUE=DATE:20200703
DTEND;VALUE=DATE:20200706
DTSTAMP:20260422T035219
CREATED:20200623T142445Z
LAST-MODIFIED:20200623T142445Z
UID:2719-1593734400-1593993599@www.wilsonborough.org
SUMMARY:Unavailable
DESCRIPTION:
URL:https://www.wilsonborough.org/event/unavailable-148/
CATEGORIES:Meuser Park Pavilion - Large,Meuser Park Pavilion - Small,Strausser Community Center
END:VEVENT
BEGIN:VEVENT
DTSTART;VALUE=DATE:20200703
DTEND;VALUE=DATE:20200704
DTSTAMP:20260422T035219
CREATED:20191105T161659Z
LAST-MODIFIED:20191105T161659Z
UID:2099-1593734400-1593820799@www.wilsonborough.org
SUMMARY:Borough Office Closed
DESCRIPTION:
URL:https://www.wilsonborough.org/event/borough-office-closed-4/
CATEGORIES:Main
END:VEVENT
BEGIN:VEVENT
DTSTART;VALUE=DATE:20200622
DTEND;VALUE=DATE:20200623
DTSTAMP:20260422T035219
CREATED:20200109T163601Z
LAST-MODIFIED:20200109T163606Z
UID:2288-1592784000-1592870399@www.wilsonborough.org
SUMMARY:Council Meeting 7pm
DESCRIPTION:
URL:https://www.wilsonborough.org/event/council-meeting-7pm-12/
CATEGORIES:Main
END:VEVENT
BEGIN:VEVENT
DTSTART;VALUE=DATE:20200608
DTEND;VALUE=DATE:20200609
DTSTAMP:20260422T035219
CREATED:20200109T163543Z
LAST-MODIFIED:20200109T163543Z
UID:2286-1591574400-1591660799@www.wilsonborough.org
SUMMARY:Council Meeting 7pm
DESCRIPTION:
URL:https://www.wilsonborough.org/event/council-meeting-7pm-11/
CATEGORIES:Main
END:VEVENT
BEGIN:VEVENT
DTSTART;VALUE=DATE:20200525
DTEND;VALUE=DATE:20200526
DTSTAMP:20260422T035219
CREATED:20200109T163340Z
LAST-MODIFIED:20200522T132749Z
UID:2284-1590364800-1590451199@www.wilsonborough.org
SUMMARY:Council Meeting 7pm-CANCELED
DESCRIPTION:
URL:https://www.wilsonborough.org/event/council-meeting-7pm-10/
CATEGORIES:Main
END:VEVENT
BEGIN:VEVENT
DTSTART;VALUE=DATE:20200525
DTEND;VALUE=DATE:20200526
DTSTAMP:20260422T035219
CREATED:20191105T161639Z
LAST-MODIFIED:20191105T161639Z
UID:2097-1590364800-1590451199@www.wilsonborough.org
SUMMARY:Borough Office Closed
DESCRIPTION:
URL:https://www.wilsonborough.org/event/borough-office-closed-3/
CATEGORIES:Main
END:VEVENT
BEGIN:VEVENT
DTSTART;VALUE=DATE:20200511
DTEND;VALUE=DATE:20200512
DTSTAMP:20260422T035219
CREATED:20200109T163234Z
LAST-MODIFIED:20200109T163234Z
UID:2282-1589155200-1589241599@www.wilsonborough.org
SUMMARY:Council Meeting 7pm
DESCRIPTION:
URL:https://www.wilsonborough.org/event/council-meeting-7pm-9/
CATEGORIES:Main
END:VEVENT
BEGIN:VEVENT
DTSTART;VALUE=DATE:20200501
DTEND;VALUE=DATE:20200701
DTSTAMP:20260422T035219
CREATED:20200520T195436Z
LAST-MODIFIED:20200520T195436Z
UID:2680-1588291200-1593561599@www.wilsonborough.org
SUMMARY:Pavilions - CLOSED
DESCRIPTION:
URL:https://www.wilsonborough.org/event/pavilions-closed/
CATEGORIES:Meuser Park Pavilion - Large,Meuser Park Pavilion - Small
END:VEVENT
BEGIN:VEVENT
DTSTART;VALUE=DATE:20200501
DTEND;VALUE=DATE:20200701
DTSTAMP:20260422T035219
CREATED:20200520T185756Z
LAST-MODIFIED:20200520T185756Z
UID:2677-1588291200-1593561599@www.wilsonborough.org
SUMMARY:Community Center CLOSED
DESCRIPTION:
URL:https://www.wilsonborough.org/event/community-center-closed/
CATEGORIES:Strausser Community Center
END:VEVENT
BEGIN:VEVENT
DTSTART;VALUE=DATE:20200427
DTEND;VALUE=DATE:20200428
DTSTAMP:20260422T035219
CREATED:20200109T163216Z
LAST-MODIFIED:20200109T163216Z
UID:2280-1587945600-1588031999@www.wilsonborough.org
SUMMARY:Council Meeting 7pm
DESCRIPTION:
URL:https://www.wilsonborough.org/event/council-meeting-7pm-8/
CATEGORIES:Main
END:VEVENT
BEGIN:VEVENT
DTSTART;VALUE=DATE:20200413
DTEND;VALUE=DATE:20200414
DTSTAMP:20260422T035219
CREATED:20200109T163159Z
LAST-MODIFIED:20200109T163159Z
UID:2278-1586736000-1586822399@www.wilsonborough.org
SUMMARY:Council Meeting 7pm
DESCRIPTION:
URL:https://www.wilsonborough.org/event/council-meeting-7pm-7/
CATEGORIES:Main
END:VEVENT
BEGIN:VEVENT
DTSTART;VALUE=DATE:20200412
DTEND;VALUE=DATE:20200413
DTSTAMP:20260422T035219
CREATED:20200220T165134Z
LAST-MODIFIED:20200220T165134Z
UID:2465-1586649600-1586735999@www.wilsonborough.org
SUMMARY:Unavailable
DESCRIPTION:
URL:https://www.wilsonborough.org/event/unavailable-198/
CATEGORIES:Meuser Park Pavilion - Large,Meuser Park Pavilion - Small,Strausser Community Center
END:VEVENT
BEGIN:VEVENT
DTSTART;VALUE=DATE:20200410
DTEND;VALUE=DATE:20200411
DTSTAMP:20260422T035219
CREATED:20191105T161621Z
LAST-MODIFIED:20191105T161621Z
UID:2095-1586476800-1586563199@www.wilsonborough.org
SUMMARY:Borough Office Closed
DESCRIPTION:
URL:https://www.wilsonborough.org/event/borough-office-closed-2/
CATEGORIES:Main
END:VEVENT
BEGIN:VEVENT
DTSTART;VALUE=DATE:20200323
DTEND;VALUE=DATE:20200324
DTSTAMP:20260422T035219
CREATED:20200109T163142Z
LAST-MODIFIED:20200318T133223Z
UID:2276-1584921600-1585007999@www.wilsonborough.org
SUMMARY:Council Meeting 7 pm CANCELLED
DESCRIPTION:
URL:https://www.wilsonborough.org/event/council-meeting-7pm-6/
CATEGORIES:Main
END:VEVENT
BEGIN:VEVENT
DTSTART;VALUE=DATE:20200316
DTEND;VALUE=DATE:20200501
DTSTAMP:20260422T035219
CREATED:20200316T131712Z
LAST-MODIFIED:20200316T131712Z
UID:2567-1584316800-1588291199@www.wilsonborough.org
SUMMARY:All events canceled until further notice!
DESCRIPTION:
URL:https://www.wilsonborough.org/event/all-events-canceled-until-further-notice-2/
CATEGORIES:Main
END:VEVENT
BEGIN:VEVENT
DTSTART;VALUE=DATE:20200316
DTEND;VALUE=DATE:20200501
DTSTAMP:20260422T035219
CREATED:20200316T131427Z
LAST-MODIFIED:20200316T131427Z
UID:2565-1584316800-1588291199@www.wilsonborough.org
SUMMARY:All events canceled until further notice!
DESCRIPTION:
URL:https://www.wilsonborough.org/event/all-events-canceled-until-further-notice/
CATEGORIES:Main,Meuser Park Pavilion - Large,Meuser Park Pavilion - Small,Strausser Community Center
END:VEVENT
BEGIN:VEVENT
DTSTART;VALUE=DATE:20200309
DTEND;VALUE=DATE:20200310
DTSTAMP:20260422T035219
CREATED:20200109T163125Z
LAST-MODIFIED:20200109T163125Z
UID:2274-1583712000-1583798399@www.wilsonborough.org
SUMMARY:Council Meeting 7pm
DESCRIPTION:
URL:https://www.wilsonborough.org/event/council-meeting-7pm-5/
CATEGORIES:Main
END:VEVENT
BEGIN:VEVENT
DTSTART;VALUE=DATE:20200308
DTEND;VALUE=DATE:20200309
DTSTAMP:20260422T035219
CREATED:20200117T144417Z
LAST-MODIFIED:20200117T144417Z
UID:2351-1583625600-1583711999@www.wilsonborough.org
SUMMARY:Unavailable
DESCRIPTION:
URL:https://www.wilsonborough.org/event/unavailable-171/
CATEGORIES:Strausser Community Center
END:VEVENT
BEGIN:VEVENT
DTSTART;VALUE=DATE:20200307
DTEND;VALUE=DATE:20200308
DTSTAMP:20260422T035219
CREATED:20200117T144334Z
LAST-MODIFIED:20200117T144345Z
UID:2349-1583539200-1583625599@www.wilsonborough.org
SUMMARY:Unavailable
DESCRIPTION:
URL:https://www.wilsonborough.org/event/unavailable-170/
CATEGORIES:Strausser Community Center
END:VEVENT
BEGIN:VEVENT
DTSTART;VALUE=DATE:20200229
DTEND;VALUE=DATE:20200301
DTSTAMP:20260422T035219
CREATED:20200117T144227Z
LAST-MODIFIED:20200117T144227Z
UID:2347-1582934400-1583020799@www.wilsonborough.org
SUMMARY:Unavailable
DESCRIPTION:
URL:https://www.wilsonborough.org/event/unavailable-169/
CATEGORIES:Strausser Community Center
END:VEVENT
BEGIN:VEVENT
DTSTART;VALUE=DATE:20200224
DTEND;VALUE=DATE:20200225
DTSTAMP:20260422T035219
CREATED:20200109T163107Z
LAST-MODIFIED:20200109T163107Z
UID:2272-1582502400-1582588799@www.wilsonborough.org
SUMMARY:Council Meeting 7pm
DESCRIPTION:
URL:https://www.wilsonborough.org/event/council-meeting-7pm-4/
CATEGORIES:Main
END:VEVENT
BEGIN:VEVENT
DTSTART;VALUE=DATE:20200222
DTEND;VALUE=DATE:20200223
DTSTAMP:20260422T035219
CREATED:20200117T144202Z
LAST-MODIFIED:20200117T144202Z
UID:2345-1582329600-1582415999@www.wilsonborough.org
SUMMARY:Unavailable
DESCRIPTION:
URL:https://www.wilsonborough.org/event/unavailable-168/
CATEGORIES:Strausser Community Center
END:VEVENT
BEGIN:VEVENT
DTSTART;VALUE=DATE:20200222
DTEND;VALUE=DATE:20200223
DTSTAMP:20260422T035219
CREATED:20191105T160657Z
LAST-MODIFIED:20191105T160657Z
UID:2065-1582329600-1582415999@www.wilsonborough.org
SUMMARY:Unavailable
DESCRIPTION:
URL:https://www.wilsonborough.org/event/unavailable-147/
CATEGORIES:Strausser Community Center
END:VEVENT
BEGIN:VEVENT
DTSTART;VALUE=DATE:20200216
DTEND;VALUE=DATE:20200217
DTSTAMP:20260422T035219
CREATED:20200117T144104Z
LAST-MODIFIED:20200117T144104Z
UID:2341-1581811200-1581897599@www.wilsonborough.org
SUMMARY:Unavailable
DESCRIPTION:
URL:https://www.wilsonborough.org/event/unavailable-166/
CATEGORIES:Strausser Community Center
END:VEVENT
BEGIN:VEVENT
DTSTART;VALUE=DATE:20200214
DTEND;VALUE=DATE:20200216
DTSTAMP:20260422T035219
CREATED:20200117T144028Z
LAST-MODIFIED:20200117T144028Z
UID:2339-1581638400-1581811199@www.wilsonborough.org
SUMMARY:Unavailable
DESCRIPTION:
URL:https://www.wilsonborough.org/event/unavailable-165/
CATEGORIES:Strausser Community Center
END:VEVENT
END:VCALENDAR